BEGIN:VCALENDAR
VERSION:2.0
PRODID:-//Library Market//iCal Export//EN
BEGIN:VEVENT
SUMMARY:Sure Start Family Playtime
UID:42467
DTSTAMP:20260420T013200Z
DTSTART:20271221T170000Z
DTEND:20271221T200000Z
LOCATION:5922 Clark Rd, Paradise, CA 95969, United States
ROOM: Emma Blackburn Community Room (Paradise)
DESCRIPTION:The library invites families to learn through play and meet ne
 w people in an educational setting. Educators, health and human service ag
 ency guests will answer questions and curiosity about your child’s early
  learning and development. Enjoy social connections, early childhood resou
 rces and storytimes all provided in a play-filled environment created just
  for you.
URL:https://buttecounty.librarycalendar.com/index.php/event/sure-start-fam
 ily-playtime-42467
END:VEVENT
END:VCALENDAR
