BEGIN:VCALENDAR
VERSION:2.0
PRODID:-//Library Market//iCal Export//EN
BEGIN:VEVENT
SUMMARY:Copy of Tales and Tabletops
UID:43203
DTSTAMP:20260423T102800Z
DTSTART:20331005T230000Z
DTEND:20331006T010000Z
LOCATION:5922 Clark Rd, Paradise, CA 95969, United States
ROOM: Emma Blackburn Community Room (Paradise)
DESCRIPTION:Tales and TabletopsPart book club, part game night, all story.
 Each month, Tales and Tabletops pairs a fast-paced, character-driven sci-f
 i or speculative book with a board game that shares its spirit—explorati
 on, rebellion, rogue missions, big feelings, and messy choices. Nothing to
 o grim, nothing too fluffy. Just smart, imaginative fun with room for surp
 rise.Read the book, play the game, or both. No prep, no pressure. All read
 ing levels, gameplay experience, and kinds of curiosity are welcome. There
 ’ll be snacks, a friendly facilitator to guide things, and a seat at the
  table for anyone who wants in.Open to teens and adults. Come curious; lea
 ve with a good story (or a new favorite game).
URL:https://buttecounty.librarycalendar.com/index.php/event/copy-tales-and
 -tabletops-43203
END:VEVENT
END:VCALENDAR
