BEGIN:VCALENDAR
VERSION:2.0
PRODID:-//Library Market//iCal Export//EN
BEGIN:VEVENT
SUMMARY:Sycamore Glen Visit
UID:43112
DTSTAMP:20260423T120500Z
DTSTART:20260426T200000Z
DTEND:20260426T210000Z
LOCATION:Sycamore Glen Active Senior Community, 1199 Diablo Ave, Chico, CA
  95973, United States
ROOM: Sycamore Glen Visit
DESCRIPTION:
URL:https://buttecounty.librarycalendar.com/event/sycamore-glen-visit-4311
 2
END:VEVENT
END:VCALENDAR
